BEGIN:VCALENDAR
VERSION:2.0
PRODID:-//ChamberMaster//Event Calendar 2.0//EN
METHOD:PUBLISH
X-PUBLISHED-TTL:P3D
REFRESH-INTERVAL:P3D
CALSCALE:GREGORIAN
BEGIN:VEVENT
DTSTART:20260804T223000Z
DTEND:20260805T013000Z
X-MICROSOFT-CDO-ALLDAYEVENT:FALSE
SUMMARY:2026 Battle of the Bay Bowling Tournament
DESCRIPTION:Baldwin County Home Builders Assn. vs. Home Builders Assn. of Metro Mobile\n\nBATTLE OF THE BAY\n\nBowling Tournament \n\nBCHBA vs. HBAMM\n\nJoin as a bowler\, a spectator or you can participate as a sponsor! There will be lots o' food and refreshments!\n\nEntry Fee: $75 per bowler\, $15 per spectator\n\n12 lanes for Baldwin County and 12 lanes for Mobile County.\n\nClick HERE for the entry form or register online in the sidebar
X-ALT-DESC;FMTTYPE=text/html:Baldwin County Home Builders Assn. vs. Home Builders Assn. of Metro <span style="font-size:24px\;"><span style="font-size:14px\;">Mobile</span><br />\n<span style="font-size:28px\;"><em><strong><span style="font-size:36px\;"><span style="color:#FF0000\;">BATTLE OF THE BAY</span></span><br />\n<span style="color:#0000FF\;">Bowling Tournament&nbsp\;</span></strong></em></span></span><br />\n<strong><span style="font-size:12.0pt\;">BCHBA vs. HBAMM</span></strong><br />\n<span style="font-size:16px\;">Join as a bowler\, a spectator or you can participate as a sponsor! There will be lots o&rsquo\; food and refreshments!<br />\n<span style="color: rgb(0\, 0\, 0)\; font-family: Arial\, Helvetica\, sans-serif\;">Entry Fee: $75 per bowler\, $15 per spectator</span></span><br />\n<span style="font-size:24px\;"><span style="font-size:16px\;">12 lanes for Baldwin County and 12 lanes for Mobile County.<br />\nClick <strong><a href="https://www.bchba.com/assets/pdf/2026bowlingflyer">HERE</a> </strong>for the entry form or register online in the sidebar<span style="font-size: 22px\;">&nbsp\;</span></span></span><span style="color: rgb(255\, 0\, 0)\;"><span style="font-size: 18px\;"><span style="font-size: 22px\;">&#9644\;</span>&#9658\;</span></span>
LOCATION:Eastern Shore Lanes\, Spanish Fort 10460 Eastern Shore Blvd. Spanish Fort
UID:e.9549.1903
SEQUENCE:3
DTSTAMP:20260423T044604Z
URL:https://business.bchba.com/events/details/2026-battle-of-the-bay-bowling-tournament-1903
END:VEVENT

END:VCALENDAR
