BEGIN:VCALENDAR
VERSION:2.0
PRODID:-//ChamberMaster//Event Calendar 2.0//EN
METHOD:PUBLISH
X-PUBLISHED-TTL:P3D
REFRESH-INTERVAL:P3D
CALSCALE:GREGORIAN
BEGIN:VEVENT
DTSTART:20261025T150000Z
DTEND:20261025T220000Z
X-MICROSOFT-CDO-ALLDAYEVENT:FALSE
SUMMARY:2026 Parade of Homes - Day 4 of 4
DESCRIPTION:Baldwin County Home Builders Association\n\n37th Annual Parade of Homes  \n\nThe largest open house event in Baldwin County.        \n\nFor Exhibitors...\n\nDownload the Entry Form and Contract HERE\n\nInformation about advertising in this year's combined Parade Magazine/Subdivision Guide can be found HERE.
X-ALT-DESC;FMTTYPE=text/html:Baldwin County Home Builders Association<br />\n<span style="color:#0000FF\;"><span style="font-size:26px\;"><strong>37th Annual Parade of Homes</strong></span></span>&nbsp\;&nbsp\;<br />\nThe largest open house event in Baldwin County.&nbsp\; &nbsp\;&nbsp\;&nbsp\;&nbsp\;&nbsp\;&nbsp\;<br />\n<span style="font-size:20px\;"><strong>For Exhibitors...</strong><br />\n<span style="font-size:14px\;">Download the Entry Form and Contract&nbsp\;<span style="color:#0000FF\;"><strong>HERE</strong></span><br />\nInformation about advertising in this year&#39\;s combined Parade Magazine/Subdivision Guide can be found <span style="color:#0000FF\;"><strong>HERE</strong></span>.</span></span><br />\n&nbsp\;
LOCATION:Across Baldwin County\, AL
UID:e.9549.1760
SEQUENCE:3
DTSTAMP:20260423T044345Z
URL:https://business.bchba.com/events/details/2026-parade-of-homes-day-4-of-4-1760
END:VEVENT

END:VCALENDAR
