BEGIN:VCALENDAR
VERSION:2.0
PRODID:-//ChamberMaster//Event Calendar 2.0//EN
METHOD:PUBLISH
X-PUBLISHED-TTL:P3D
REFRESH-INTERVAL:P3D
CALSCALE:GREGORIAN
BEGIN:VEVENT
DTSTART:20261022T223000Z
DTEND:20261023T003000Z
X-MICROSOFT-CDO-ALLDAYEVENT:FALSE
SUMMARY:2026 Parade of Homes Street Party
DESCRIPTION:Join us for\n\nThe 2026 Parade of Homes Street Party\n\nby Pickering Building and Renovations\n\n\n\n\n\nCelebrating the 2026 Showcase Home\n\n\n\nVisit Pickering Building & Renovations at https://www.pickeringbuilding.com/
X-ALT-DESC;FMTTYPE=text/html:<span style="font-size:22px\;"><span style="font-size:14px\;">Join us for</span></span><br />\n<span style="font-size:26px\;"><span style="color:#FF0000\;"><strong>The 2026 Parade of Homes Street Party</strong></span></span><br />\n<span style="color:#0000FF\;"><span style="font-size:20px\;"><strong>by Pickering Building and Renovations</strong></span></span><br />\n<br />\n<br />\n<span style="font-size:16px\;"><strong>Celebrating the 2026 Showcase Home<br />\n<br />\nVisit Pickering Building &amp\; Renovations at&nbsp\;</strong></span><span style="font-size:18px\;"><strong><em><a href="https://www.pickeringbuilding.com/">https://www.pickeringbuilding.com/</a></em></strong></span>
LOCATION:TBD
UID:e.9549.1761
SEQUENCE:3
DTSTAMP:20260423T044441Z
URL:https://business.bchba.com/events/details/2026-parade-of-homes-street-party-1761
END:VEVENT

END:VCALENDAR
