BEGIN:VCALENDAR
VERSION:2.0
PRODID:-//ChamberMaster//Event Calendar 2.0//EN
METHOD:PUBLISH
X-PUBLISHED-TTL:P3D
REFRESH-INTERVAL:P3D
CALSCALE:GREGORIAN
BEGIN:VEVENT
DTSTART:20260407T220000Z
DTEND:20260408T000000Z
X-MICROSOFT-CDO-ALLDAYEVENT:FALSE
SUMMARY:Baldwin Girls Build After Hours
DESCRIPTION:Join us for a\n\nProfessional Women in Building\n\nBaldwin Girls Build After Hours
X-ALT-DESC;FMTTYPE=text/html:Join us for a<br />\n<span style="font-size:20px\;"><strong>Professional Women in Building</strong></span><br />\n<span style="color:#ff99ff\;"><span style="font-size:26px\;"><strong>Baldwin Girls Build After Hours</strong></span></span><br />\n&nbsp\;
LOCATION:Baldwin Preparatory Academy 33243 AL-59 Loxley\, AL 36551
UID:e.9549.1904
SEQUENCE:3
DTSTAMP:20260423T063246Z
URL:https://business.bchba.com/events/details/baldwin-girls-build-after-hours-1904
END:VEVENT

END:VCALENDAR
